BEGIN:VCALENDAR
VERSION:2.0
PRODID:-//ChamberMaster//Event Calendar 2.0//EN
METHOD:PUBLISH
X-PUBLISHED-TTL:P3D
REFRESH-INTERVAL:P3D
CALSCALE:GREGORIAN
BEGIN:VEVENT
DTSTART;VALUE=DATE:20260502
DTEND;VALUE=DATE:20260503
TRANSP:TRANSPARENT
X-MICROSOFT-CDO-ALLDAYEVENT:TRUE
SUMMARY:2026 Gardner City-Wide Garage Sale
DESCRIPTION:Shop til you drop! The Gardner City-Wide Garage Sale is one weekend you don't want to miss. Hundreds of sales taking place simultaneously around town. Kids items. Antiques. Furniture. Home Decor. And just good old-fashioned junk. It's all here.\n\n\n\nRegistration will open around the first of April.
X-ALT-DESC;FMTTYPE=text/html:Shop til you drop! The Gardner City-Wide Garage Sale is one weekend you don&#39\;t want to miss. Hundreds of sales taking place simultaneously around town. Kids items. Antiques. Furniture. Home Decor. And just good old-fashioned junk. It&#39\;s all here.<br />\n<br />\nRegistration will open around the first of April.<br />\n&nbsp\;
LOCATION:100+ locations across the city.
UID:e.50.6308
SEQUENCE:3
DTSTAMP:20260424T081809Z
URL:https://business.gardneredgerton.org/events/details/2026-gardner-city-wide-garage-sale-6308
END:VEVENT

END:VCALENDAR
