BEGIN:VCALENDAR
VERSION:2.0
PRODID:-//ChamberMaster//Event Calendar 2.0//EN
METHOD:PUBLISH
X-PUBLISHED-TTL:P3D
REFRESH-INTERVAL:P3D
CALSCALE:GREGORIAN
BEGIN:VEVENT
DTSTART:20260503T210000Z
DTEND:20260504T020000Z
X-MICROSOFT-CDO-ALLDAYEVENT:FALSE
SUMMARY:Fiesta KC at KC Wine Co
DESCRIPTION:Cinco de Mayo Celebration\n\n\n21+ Only\n\nThink juicy street tacos\, crispy churros\, and melty nachos paired with your favorite drinks (ahem\, margarita wine slushes and marg flights). Between bites\, jump into shenanigan contests like the spoon race or give corn hole a go.\n\nBring your crew\, grab a glass\, and make it a fiesta to remember!\n\n\n\n\n\n\nCinco de Mayo Weekend Lineup\n\n\n\n\n\n\n\n\n\n\n\nFriday\, May 1   DJ Dennis 4:30 7:30PM\n\nSaturday\, May 2   Doors open at 12PM\, contests & games throughout the day\, and a special performance by Son Venezuela (2024 Kansas Music Hall of Fame inductees!) from 5:30 8:30PM\n\nSunday\, May 4   Fiesta continues 12-6PM\, with DJ Dennis from 2-5PM
X-ALT-DESC;FMTTYPE=text/html:<h2>Cinco de Mayo Celebration</h2>\n\n<div>\n<p><em>21+ Only</em></p>\n\n<p>Think juicy street tacos\, crispy churros\, and melty nachos paired with your favorite drinks (ahem\, margarita wine slushes and marg flights). Between bites\, jump into shenanigan contests like the spoon race or give corn hole a go.</p>\n\n<p>Bring your crew\, grab a glass\, and make it a fiesta to remember!</p>\n\n<div>\n<div>\n<div>\n<div>\n<div>\n<h2>Cinco de Mayo Weekend Lineup</h2>\n</div>\n</div>\n</div>\n</div>\n</div>\n\n<div>\n<div>\n<div>\n<div>\n<div>\n<p><strong>Friday\, May 1</strong> &ndash\; DJ Dennis 4:30&mdash\;7:30PM</p>\n\n<p><strong>Saturday\, May 2</strong> &ndash\; Doors open at 12PM\, contests &amp\; games throughout the day\, and a special performance by Son Venezuela (2024 Kansas Music Hall of Fame inductees!) from 5:30&mdash\;8:30PM</p>\n\n<p><strong>Sunday\, May 4</strong> &ndash\; Fiesta continues 12-6PM\, with DJ Dennis from 2-5PM</p>\n</div>\n</div>\n</div>\n</div>\n</div>\n</div>\n
LOCATION:KC Wine Co\, 13875 S Gardner Rd\, Olathe\, KS 66061
UID:e.50.7329
SEQUENCE:3
DTSTAMP:20260423T204419Z
URL:https://business.gardneredgerton.org/events/details/fiesta-kc-at-kc-wine-co-05-03-2026-7329
END:VEVENT

END:VCALENDAR
