BEGIN:VCALENDAR
VERSION:2.0
PRODID:-//ChamberMaster//Event Calendar 2.0//EN
METHOD:PUBLISH
X-PUBLISHED-TTL:P3D
REFRESH-INTERVAL:P3D
CALSCALE:GREGORIAN
BEGIN:VEVENT
DTSTART;VALUE=DATE:20260427
DTEND;VALUE=DATE:20260428
TRANSP:TRANSPARENT
X-MICROSOFT-CDO-ALLDAYEVENT:TRUE
SUMMARY:Leadership Gardner Class 2026 Fundraiser
DESCRIPTION:Visit HTeaO Gardner\, KS today to purchase your gallon of tea! 10% of Sales will go towards the Leadership Gardner Class of 2026's service project that is focused on raising funds to wipe out USD 231 lunch debt for students.\n\nGet your tea today! They are open until 8pm!
X-ALT-DESC;FMTTYPE=text/html:<div dir="auto" style="font-family: &quot\;Segoe UI Historic&quot\;\, &quot\;Segoe UI&quot\;\, Helvetica\, Arial\, sans-serif\; color: rgb(8\, 8\, 9)\; font-size: 15px\; white-space: pre-wrap\;">Visit <span class="html-span xdj266r x14z9mp xat24cr x1lziwak xexx8yu xyri2b x18d9i69 x1c1uobl x1hl2dhg x16tdsg8 x1vvkbs" style="margin-inline: 0px\; text-align: inherit\; padding-inline: 0px\; overflow-wrap: break-word\; padding-bottom: 0px\; margin-bottom: 0px\; margin-top: 0px\; padding-top: 0px\; font-family: inherit\;"><a attributionsrc="/privacy_sandbox/comet/register/source/?xt=AZYJ6wuHb_-wmMsK1hllJhOoHgW0wyPvJrbGZ7jadsvrOzFRqT-OLllA2daF-zgbYWT20eX7Zar_NCPrGJI_DgTaTUw6llDm4X3lKd9_EyyBdahFKh894HwzCK7Q-rMd4W9tGCleEJ6DyVx21Dg09L9qxKc81_Ugv9DTJoMvdn9L_jzPgjuAMvNdSvklvNj8bOjKuMRVm7S9QqZlK83sapNGrmzZsge9eQL446IdR_RA8aLfmFkWME-nISp1w-9iUsZs9ftgrylBQeF_P4gRU05IGE2i5g4hB_k_j4popflQ9tzo6Nh9Z9KmIhaHUNfI-WX7cXGC_g7wjnSG91zo-npOY_YlcJus4EOGXeozsX0nR4JHM_CQrSLKlHwe98reEjbBFHhzUd6Rt1FLRFZthMWn4XaWzGx_OaFiv3OiQza6rCySDfG_TmQe1OduqWQepjgci-rsnnJOTwnxvT6BfVLga3MVFLck004qh22I7CL9neDKf8qn5eiI3DlaL2WBTX9pbIG3GPUCxHT_O-IeLekOv82nSwCcvHl_Kv3uK16_e3N6rHGYmNUU7XwO2yIlSPxP9zmuCpaubVUAJVayirKOyyaCVUc6AgxjimqIwiotLi8P5HPoR-MBJuGO6Berj-3h9T-LJcG2vqnB_VsdxpFf4OINeFaXBKptePjAiabUtXOs1Nzd386uoZEBfnBaj-2CP38UeOi9oBJVcJ2lz33iv98yRoZtMIGiD7V73AJFLMixUG9gKtOc-QD2iWoSRKPLRwTChpoKJKj7dpotSCF0IGFh-MvyhnQQbEx3nQP0eWC7T5-fyEX1Zm1_GM9SyGYkxGSbXjQVEumfn4XVVGR7plFHZw6m_k6ZuCp086EMasGuXFJZM0XH1Vw992aR-aEQVkbcSAQwKYDfz7sSFOjk5qllofHA2qWg5cCozScVORgZl1O9sGjn5N7P9TYen1wb7mUgRolBbcgJPciscC7tXpbWD8Yl6sPw0_rQ-1EQhOzvFvEzqPtjtZjPqbvXu0ARlhJggqSF0N6NpfCQWDDE16aiW_orQ4XBsQ-GQTB7-5E_7fnqWFvsUiNUBTByOyAJt7v1_F3WInnGyQolQlqowERJYFxtuapjFrEpKf5aOsHys8RUGkRdCGsH9Og9-GydziCURKGWb7Kyp7RaDqtbw1QVLXCVkgLZpMSOh5BCwzitr-qmB-U_cG1HZ2V2mqFovLM5UXmypQ7u6QwXe69wEypkVzkFdypwzDowWtrE-HXMP8JZDJj1yx7MSrKqX1MbNCvsUCKX5t2PyVBykbC8S1Nr2uSzd3Rmbjuv9KsW1o0vHSGIoPatrOj4yxzyLl_Hx3FughLAcWFFpNa-cr9pVDPQNKUZb6NSg7A8YtCvbOx14w7g2UoVM06XwPNn0RH7eqZPR90l4cNnQHATCaNNl7VDzLlckxESuF-10nPM9sOGztOkKvVxHOuGtFW2x8qrCAPO_G5Ys8sUTkd2N4QU94Nw34kw61pbpbeDvvy0I75_5ENKowyzl_-61hYdi7YX9UIBhoQtiXzXfh6x4soKd7nDGyvPqex_rwzVxWU47czbQusckOmbYP_XUXo28L5ftrodnwFS2KflEht1iI3ddqOIKIpkRcQUVM4swGTm5wbi3knk9ewtv1YQcRHQoR7PoWKAQ5SVMyEpXdoQ0NtI5KtR0C-X02sKAgDodHG1nCQ7ErfAgbD2sOfvVmZem0XL-X72y-wz7pCTmzZnAYLJ" class="x1i10hfl xjbqb8w x1ejq31n x18oe1m7 x1sy0etr xstzfhl x972fbf x10w94by x1qhh985 x14e42zd x9f619 x1ypdohk xt0psk2 x3ct3a4 xdj266r x14z9mp xat24cr x1lziwak xexx8yu xyri2b x18d9i69 x1c1uobl x16tdsg8 x1hl2dhg xggy1nq x1a2a7pz xkrqix3 x1sur9pj x1fey0fg x1s688f" href="https://www.facebook.com/profile.php?id=61559100522810&amp\;__cft__[0]=AZYoIJ9mbbKQcbsaBtgj7I5VExVmJvVdZBi9a9itQeVML5hmFwNB4SAJI1R8v3Vge0xZzRMj42JZFzT7w_DcLb5LbTxdI33L9zTu3L5lgzwPRqu104R3FMLOyhQHziC3Yl0qGspIr1N56T_FxWAUFnonKkm0VkLZDOg_yEfVyABHw_ugoNA-sxG9iNWWqn1xrBA&amp\;__tn__=-]K-R" role="link" style="color: rgb(0\, 100\, 209)\; cursor: pointer\; text-decoration: none\; outline: none\; border-inline-width: 0px\; margin-inline: 0px\; text-align: inherit\; border-inline-style: none\; padding-inline: 0px\; -webkit-tap-highlight-color: transparent\; font-weight: 600\; list-style-type: none\; box-sizing: border-box\; touch-action: manipulation\; background-color: transparent\; display: inline\; padding-bottom: 0px\; border-top-style: none\; border-bottom-width: 0px\; border-bottom-style: none\; border-top-width: 0px\; margin-bottom: 0px\; margin-top: 0px\; padding-top: 0px\; font-family: inherit\;" tabindex="0"><span class="xt0psk2" style="display: inline\; font-family: inherit\;">HTeaO Gardner\, KS</span></a></span> today to purchase your gallon of tea! 10% of Sales will go towards the Leadership Gardner Class of 2026&#39\;s service project that is focused on raising funds to wipe out USD 231 lunch debt for students.</div>\n\n<div dir="auto" style="font-family: &quot\;Segoe UI Historic&quot\;\, &quot\;Segoe UI&quot\;\, Helvetica\, Arial\, sans-serif\; color: rgb(8\, 8\, 9)\; font-size: 15px\; white-space: pre-wrap\;">Get your tea today! They are open until 8pm!</div>\n
LOCATION:838 E. Main Street Gardner\, KS
UID:e.50.7305
SEQUENCE:3
DTSTAMP:20260422T222305Z
URL:https://business.gardneredgerton.org/events/details/leadership-gardner-class-2026-fundraiser-7305
END:VEVENT

END:VCALENDAR
